BEGIN:VCALENDAR
VERSION:2.0
PRODID:-//Sistema Med Campania - ECPv6.7.0//NONSGML v1.0//EN
CALSCALE:GREGORIAN
METHOD:PUBLISH
X-WR-CALNAME:Sistema Med Campania
X-ORIGINAL-URL:https://backup.sistemamedcampania.it
X-WR-CALDESC:Eventi per Sistema Med Campania
REFRESH-INTERVAL;VALUE=DURATION:PT1H
X-Robots-Tag:noindex
X-PUBLISHED-TTL:PT1H
BEGIN:VTIMEZONE
TZID:Europe/Rome
BEGIN:DAYLIGHT
TZOFFSETFROM:+0100
TZOFFSETTO:+0200
TZNAME:CEST
DTSTART:20230326T010000
END:DAYLIGHT
BEGIN:STANDARD
TZOFFSETFROM:+0200
TZOFFSETTO:+0100
TZNAME:CET
DTSTART:20231029T010000
END:STANDARD
END:VTIMEZONE
BEGIN:VEVENT
DTSTART;TZID=Europe/Rome:20230922T190000
DTEND;TZID=Europe/Rome:20230922T190000
DTSTAMP:20260420T020142
CREATED:20230919T175146Z
LAST-MODIFIED:20230921T124624Z
UID:8654-1695409200-1695409200@backup.sistemamedcampania.it
SUMMARY:Fondazione Pietà de' Turchini - Oltremare
DESCRIPTION:Un viaggio musicale a cavallo tra Napoli e la Spagna\, tra la scuola napoletana e l’Europa con protagonisti due giovani talenti: Raffaele La Ragione al mandolino e Andrea De Vitis alla chitarra. \nIn programma\, le sonate di Domenico Scarlatti e Antonio Soler (che ha studiato con lo stesso Scarlatti a Madrid)\, la Suite Ancienne di Isaac Albeniz e il suo linguaggio neobarocco\, poi brani del compositore Manuel de Falla. \nInfine\, il duo vuole mostrare Napoli attraverso un folklore diverso\, tramite le Variazioni sul basso di tarantella di Antonello Paliotti\, per scoprire come la comune matrice riesca ad avvicinare tra loro mondi sonori apparentemente distanti. \nIngresso libero su prenotazione \nPer info segreteria@turchini.it – www.turchini.it
URL:https://backup.sistemamedcampania.it/evento/fondazione-pieta-de-turchini-oltremare/
LOCATION:Chiesa di Santa Caterina da Siena\, Via Santa Caterina da Siena 38\, Napoli\, Napoli\, 80132\, Italia
CATEGORIES:Fondazione Pietà dei Turchini,Musica
ATTACH;FMTTYPE=image/jpeg:https://backup.sistemamedcampania.it/wp-content/uploads/2023/09/pieta-de-turchini.jpg
END:VEVENT
BEGIN:VEVENT
DTSTART;TZID=Europe/Rome:20230915T190000
DTEND;TZID=Europe/Rome:20230915T190000
DTSTAMP:20260420T020142
CREATED:20230910T191530Z
LAST-MODIFIED:20230910T191530Z
UID:8593-1694804400-1694804400@backup.sistemamedcampania.it
SUMMARY:Fondazione Pietà de' Turchini - Nuances
DESCRIPTION:Sulla scia di un repertorio domestico molto in voga a cavallo tra il XIX ed il XX secolo\, il duo costituito da Michele de Martino e Salvatore Della Vecchia propone un’interessante rilettura di capolavori come la sonata di Bach e i valzer di Chopin\, ma anche brani della scuola compositiva napoletana. \n  \nMichele de Martino mandolino e pianoforte \nSalvatore Della Vecchia mandoloncello e mandolino \n  \nProgramma \n\n\nSacco – Anonimo Te voglio bene assai \nJ.S. Bach Sonata in Mi minore per flauto e basso continuo\, Adagio ma non tanto\, Allegro ; L.v. Beethoven\nAdagio in Mib Wo0 43b ; G. Rossini La Danza – tarantella napoletana; F. Chopin Notturno No. 20 in Do# minore\, Op. postuma; E. Barbella Duo V per due mandolini;G. Napoli Frammento per mandolino e pianoforte; F. Chopin “Valse Brillante” in La minore\, Op. 34 No.2;R. Viviani Tarantella segreta;R. Calace Polonese op.36 per mandolino e pianoforte \n  \nIngresso libero su prenotazione \n\nPer info 081 402 395 – info@turchini.it – www.turchini.it
URL:https://backup.sistemamedcampania.it/evento/fondazione-pieta-de-turchini-nuances/
LOCATION:Fondazione Banco di Napoli\, Via dei Tribunali 213\, Napoli\, Napoli\, 80139\, Italia
CATEGORIES:Fondazione Pietà dei Turchini,Musica
ATTACH;FMTTYPE=image/jpeg:https://backup.sistemamedcampania.it/wp-content/uploads/2023/09/fondazione-pieta-de-turchini-note-darchivio-nuances.jpg
END:VEVENT
BEGIN:VEVENT
DTSTART;TZID=Europe/Rome:20230621T190000
DTEND;TZID=Europe/Rome:20230621T190000
DTSTAMP:20260420T020142
CREATED:20230619T211450Z
LAST-MODIFIED:20230619T211450Z
UID:8353-1687374000-1687374000@backup.sistemamedcampania.it
SUMMARY:Centro di Musica Antica Pietà de' Turchini - Archi in festa
DESCRIPTION:Per la giornata della Festa della Musica\, l’ensemble di archi del Conservatorio San Pietro a Majella di Napoli è protagonista di un programma che da Pergolesi passa per Boccherini fino ad approdare a Mozart. \nInsomma un affresco sonoro della scrittura per archi e il divenire dell’orchestra nel corso del secolo tra i più luminosi della storia musicale europea. \nvioloncello Luca Signorini \nOrchestra d’Archi del Conservatorio San Pietro a Majella di Napoli \ndirezione Antonio Maione \nConcerto nell’ambito del progetto Note d’Archivio \ncon il sostegno della Fondazione Banco di Napoli \nin collaborazione con la Soprintendenza archivistica e bibliografica della Campania \nIngresso libero su prenotazione \nPer info segreteria@turchini.it – www.turchini.it
URL:https://backup.sistemamedcampania.it/evento/centro-di-musica-antica-pieta-de-turchini-archi-in-festa/
LOCATION:Fondazione Banco di Napoli\, Via dei Tribunali 213\, Napoli\, Napoli\, 80139\, Italia
CATEGORIES:Fondazione Pietà dei Turchini,Musica
ATTACH;FMTTYPE=image/jpeg:https://backup.sistemamedcampania.it/wp-content/uploads/2023/06/pieta-de-turchini-note-darchivio-archi-in-festa.jpg
END:VEVENT
END:VCALENDAR