BEGIN:VCALENDAR
VERSION:2.0
PRODID:-//Sistema Med Campania - ECPv6.7.0//NONSGML v1.0//EN
CALSCALE:GREGORIAN
METHOD:PUBLISH
X-WR-CALNAME:Sistema Med Campania
X-ORIGINAL-URL:https://backup.sistemamedcampania.it
X-WR-CALDESC:Eventi per Sistema Med Campania
REFRESH-INTERVAL;VALUE=DURATION:PT1H
X-Robots-Tag:noindex
X-PUBLISHED-TTL:PT1H
BEGIN:VTIMEZONE
TZID:Europe/Rome
BEGIN:DAYLIGHT
TZOFFSETFROM:+0100
TZOFFSETTO:+0200
TZNAME:CEST
DTSTART:20230326T010000
END:DAYLIGHT
BEGIN:STANDARD
TZOFFSETFROM:+0200
TZOFFSETTO:+0100
TZNAME:CET
DTSTART:20231029T010000
END:STANDARD
END:VTIMEZONE
BEGIN:VEVENT
DTSTART;TZID=Europe/Rome:20230827T210000
DTEND;TZID=Europe/Rome:20230827T210000
DTSTAMP:20260420T034631
CREATED:20230816T162952Z
LAST-MODIFIED:20230816T162952Z
UID:8543-1693170000-1693170000@backup.sistemamedcampania.it
SUMMARY:Orchestra Filarmonica Campana - Viaggio musicale nel parco
DESCRIPTION:L’Orchestra Filarmonica Campana si fa protagonista di un particolare appuntamento dedicato a quella musica che si trova ai confini tra classica e leggere. \nMolti compositori classici\, infatti\, come anche Mozart e Beethoven\, non soltanto si sono ispirati alla popolare ma hanno composto essi stessi musica leggera\, tra cui canzoni e danze. Una piacevole escursione che vuole concentrarsi sugli ultimi cento anni\, con la possibilità di scoprire la bellezza della musica e del nostro territorio. \nPer info info@filarmonicacampana.it – 349 3925763 – www.filarmonicacampana.it
URL:https://backup.sistemamedcampania.it/evento/orchestra-filarmonica-campana-viaggio-musicale-nel-parco/
LOCATION:Parco Archeologico di Nocera\, Via Fiuminale 6\, Nocera Superiore\, Salerno\, 84015\, Italia
CATEGORIES:Musica,Orchestra Filarmonica Campana
ATTACH;FMTTYPE=image/jpeg:https://backup.sistemamedcampania.it/wp-content/uploads/2023/08/orchestra-filarmonica-campana.jpg
END:VEVENT
END:VCALENDAR