BEGIN:VCALENDAR
VERSION:2.0
PRODID:-//Sistema Med Campania - ECPv6.7.0//NONSGML v1.0//EN
CALSCALE:GREGORIAN
METHOD:PUBLISH
X-ORIGINAL-URL:https://backup.sistemamedcampania.it
X-WR-CALDESC:Eventi per Sistema Med Campania
REFRESH-INTERVAL;VALUE=DURATION:PT1H
X-Robots-Tag:noindex
X-PUBLISHED-TTL:PT1H
BEGIN:VTIMEZONE
TZID:Europe/Rome
BEGIN:DAYLIGHT
TZOFFSETFROM:+0100
TZOFFSETTO:+0200
TZNAME:CEST
DTSTART:20230326T010000
END:DAYLIGHT
BEGIN:STANDARD
TZOFFSETFROM:+0200
TZOFFSETTO:+0100
TZNAME:CET
DTSTART:20231029T010000
END:STANDARD
END:VTIMEZONE
BEGIN:VEVENT
DTSTART;TZID=Europe/Rome:20230427T170000
DTEND;TZID=Europe/Rome:20230427T170000
DTSTAMP:20260423T065702
CREATED:20230404T200433Z
LAST-MODIFIED:20230425T183329Z
UID:8023-1682614800-1682614800@backup.sistemamedcampania.it
SUMMARY:Scarlatti Camera Young - Dialoghi musicali alla Federico II
DESCRIPTION:Si conclude\, con il suo quarto e ultimo appuntamento\, Scarlatti Camera Young – Dialoghi musicali alla Federico II\, rassegna organizzata dalla Nuova Orchestra Scarlatti. \nStavolta ci troviamo nel suggestivo Archivio di Stato di Napoli\, dove il Quartetto Scarlatti insieme al clarinettista Gaetano Russo interpretano alcune musiche di Borodin\, Šostakóvič\, Stravinskij e il Quintetto K 581 di Mozart. \nIl concerto è introdotto dalle parole del Professor Marco Bizzarini. \nInfo: 081 253 5984 – info@nuovaorchestrascarlatti.it – https://www.nuovaorchestrascarlatti.it/ \n 
URL:https://backup.sistemamedcampania.it/evento/scarlatti-camera-young-dialoghi-musicali-alla-federico-ii-4/
LOCATION:Archivio di Stato\, Via Del Grande Archivio 5\, Napoli\, Napoli\, 80138\, Italia
CATEGORIES:Musica,Nuova Orchestra Scarlatti,Scarlatti Camera Young - Dialoghi musicali alla Federico II
ATTACH;FMTTYPE=image/png:https://backup.sistemamedcampania.it/wp-content/uploads/2023/04/nuova-orchestra-scarlatti-scarlatti-camera-young-dialoghi-musicali-alla-federico-ii.png
END:VEVENT
END:VCALENDAR