BEGIN:VCALENDAR
VERSION:2.0
PRODID:-//Sistema Med Campania - ECPv6.7.0//NONSGML v1.0//EN
CALSCALE:GREGORIAN
METHOD:PUBLISH
X-WR-CALNAME:Sistema Med Campania
X-ORIGINAL-URL:https://backup.sistemamedcampania.it
X-WR-CALDESC:Eventi per Sistema Med Campania
REFRESH-INTERVAL;VALUE=DURATION:PT1H
X-Robots-Tag:noindex
X-PUBLISHED-TTL:PT1H
BEGIN:VTIMEZONE
TZID:Europe/Rome
BEGIN:DAYLIGHT
TZOFFSETFROM:+0100
TZOFFSETTO:+0200
TZNAME:CEST
DTSTART:20230326T010000
END:DAYLIGHT
BEGIN:STANDARD
TZOFFSETFROM:+0200
TZOFFSETTO:+0100
TZNAME:CET
DTSTART:20231029T010000
END:STANDARD
END:VTIMEZONE
BEGIN:VEVENT
DTSTART;TZID=Europe/Rome:20230510T203000
DTEND;TZID=Europe/Rome:20230510T203000
DTSTAMP:20260422T104840
CREATED:20230426T192517Z
LAST-MODIFIED:20230426T192517Z
UID:8061-1683750600-1683750600@backup.sistemamedcampania.it
SUMMARY:Associazione Alessandro Scarlatti - Pieranunzi & Tomassi
DESCRIPTION:Due celebri artisti italiani\, la pianista Giorgia Pieranunzi e il violinista Gabriele Tomassi\, dedicano la serata a Robert Schumann. In programma le tre Sonate per violino: la terza\, pubblicata solo nel 1956\, contiene il secondo e il quarto movimento della Sonata F.A.E\, scritta a tre mani da Schumann\, Brahms e Dietrich e dedicata al leggendario violinista Joachim. A questi movimenti Schumann aggiungerà poi gli altri due\, dando vita appunto alla sua terza Sonata. \nviolino Gabriele Pieranuzi\npianoforte Giorgia Tomassi\nIntegrale delle Sonate per violino di Robert Schumann \nRobert Schumann – Sonata n. 1 in la minore op. 105; Sonata n. 2 in re minore op. 121; Sonata n. 3 in la minore WoO 27 \nINFO  081 406011 – info@associazionescarlatti.it
URL:https://backup.sistemamedcampania.it/evento/associazione-alessandro-scarlatti-pieranunzi-tomassi/
LOCATION:Teatro Sannazaro\, Via Chiaia\, 157\, Napoli\, 80121\, Italia
CATEGORIES:Associazione Alessandro Scarlatti.,Musica
ATTACH;FMTTYPE=image/png:https://backup.sistemamedcampania.it/wp-content/uploads/2023/04/associazione-alessandro-scarlatti-pieranunzi-tomassi.png
END:VEVENT
END:VCALENDAR