BEGIN:VCALENDAR
VERSION:2.0
PRODID:-//Sistema Med Campania - ECPv6.7.0//NONSGML v1.0//EN
CALSCALE:GREGORIAN
METHOD:PUBLISH
X-WR-CALNAME:Sistema Med Campania
X-ORIGINAL-URL:https://backup.sistemamedcampania.it
X-WR-CALDESC:Eventi per Sistema Med Campania
REFRESH-INTERVAL;VALUE=DURATION:PT1H
X-Robots-Tag:noindex
X-PUBLISHED-TTL:PT1H
BEGIN:VTIMEZONE
TZID:Europe/Rome
BEGIN:DAYLIGHT
TZOFFSETFROM:+0100
TZOFFSETTO:+0200
TZNAME:CEST
DTSTART:20230326T010000
END:DAYLIGHT
BEGIN:STANDARD
TZOFFSETFROM:+0200
TZOFFSETTO:+0100
TZNAME:CET
DTSTART:20231029T010000
END:STANDARD
END:VTIMEZONE
BEGIN:VEVENT
DTSTART;TZID=Europe/Rome:20230917T210000
DTEND;TZID=Europe/Rome:20230917T210000
DTSTAMP:20260422T211013
CREATED:20230917T135535Z
LAST-MODIFIED:20230917T135535Z
UID:8634-1694984400-1694984400@backup.sistemamedcampania.it
SUMMARY:AKERUSIA DANZA - Forse sì forse no & Deviazione della rondine
DESCRIPTION:Terzo giorno di laboratori e spettacoli per Intrecci d’arte al Sud\, rassegna nell’ambito di Affabulazione\, nella splendida cornice del chiostro e degli spazi interni della Chiesa di Santa Maria dell’Arco a Miano. \nDomenica 17 settembre alle ore 21\, va in scena Forse sì forse no di e con Sabrina D’Aguanno e Sonia Di Gennaro\, musiche di Giosi Cincotti e intermezzo di Althea Esposito e Sabrina Volpe. \nA seguire\, Deviazione della rondine\, un accordo tra corpo\, voce e musica. Autore\, interprete e voce Fabrizio Varriale. \nPer info info@akerusiadanza.it – 081 839 2288 – www.akerusiadanza.it
URL:https://backup.sistemamedcampania.it/evento/akerusia-danza-forse-si-forse-no-deviazione-della-rondine/
LOCATION:Chiesa Santa Maria dell’Arco\, Piazza Madonna dell'Arco 8\, Napoli\, Napoli\, 80145\, Italia
CATEGORIES:Akerusia Danza,Danza
ATTACH;FMTTYPE=image/jpeg:https://backup.sistemamedcampania.it/wp-content/uploads/2023/09/akerusia-danza-intrecci-darte-al-sud.jpg
END:VEVENT
BEGIN:VEVENT
DTSTART;TZID=Europe/Rome:20230916T210000
DTEND;TZID=Europe/Rome:20230916T210000
DTSTAMP:20260422T211013
CREATED:20230914T173512Z
LAST-MODIFIED:20230914T173512Z
UID:8611-1694898000-1694898000@backup.sistemamedcampania.it
SUMMARY:Akerusia Danza - In - canto | Suoni e suggestioni dal Sud
DESCRIPTION:Nell’ambito di Intrecci d’arte al sud\, prima edizione della rassegna di teatro\, musica e danza a cura di Akerusia Danza\, in programma dal 15 al 18 settembre negli spazi della parrocchia e del chiostro di Santa Maria dell’Arco di Miano\, arriva In – canto | Suoni e suggestioni dal Sud. Un affascinante incontro tra musica\, prosa e danza. \nVoce narrante e cantante Francesca Rondinella \nCoreografia e danza Sabrina D’Aguanno\, Sonia Di Gennaro \nFisarmonica\, percussioni e sonorizzazioni Giosi Cincotti \nCoordinamento artistico Elena D’Aguanno \nLight designer Ciro Di Matteo \nGrafica Greta Paliotti \nProduzione Akerusia Danza \nIngresso gratuito\n \nPer info info@akerusiadanza.it – 081 839 2288
URL:https://backup.sistemamedcampania.it/evento/akerusia-danza-in-canto-suoni-e-suggestioni-dal-sud-2/
LOCATION:Chiesa Santa Maria dell’Arco\, Piazza Madonna dell'Arco 8\, Napoli\, Napoli\, 80145\, Italia
CATEGORIES:Akerusia Danza,Danza
ATTACH;FMTTYPE=image/jpeg:https://backup.sistemamedcampania.it/wp-content/uploads/2023/09/akerusia-danza-in-canto-suoni-e-suggestioni-dal-sud.jpg
END:VEVENT
BEGIN:VEVENT
DTSTART;VALUE=DATE:20230907
DTEND;VALUE=DATE:20230908
DTSTAMP:20260422T211013
CREATED:20230901T153334Z
LAST-MODIFIED:20230901T153334Z
UID:8577-1694044800-1694131199@backup.sistemamedcampania.it
SUMMARY:Akerusia Danza - Forse sì forse no
DESCRIPTION:“Sono davvero poche le situazioni irrisolvibili\, a volte basterebbe cambiare punto di vista per accorgersi di poter intraprendere una via alternativa. Non è quel che si vede\, ma come si vede. Non c’è un solo modo di osservare\, di ascoltare\, di vedere. Analizzare altri punti di vista. Ribaltare la realtà. Esplorare per trovare una nuova dimensione\, una realtà altra”. \ndi e con\nSabrina D’Aguanno e Sonia Di Gennaro \nProduzione Akerusia Danza\nDirezione artistica Elena D’Aguanno \nINFO: 0818392288 – info@akerusiadanza.it – www.akerusiadanza.it
URL:https://backup.sistemamedcampania.it/evento/akerusia-danza-forse-si-forse-no-3/
LOCATION:Museo Ferroviario di Pietrarsa\, Via Pietrarsa\,\, Portici (NA)\, 80055\, Italia
CATEGORIES:Akerusia Danza,Danza
ATTACH;FMTTYPE=image/jpeg:https://backup.sistemamedcampania.it/wp-content/uploads/2023/09/akerusia-danza-forse-si-forse-no.jpg
END:VEVENT
BEGIN:VEVENT
DTSTART;VALUE=DATE:20230904
DTEND;VALUE=DATE:20230905
DTSTAMP:20260422T211013
CREATED:20230901T154018Z
LAST-MODIFIED:20230901T154018Z
UID:8580-1693785600-1693871999@backup.sistemamedcampania.it
SUMMARY:Akerusia Danza - Forse sì forse no
DESCRIPTION:“Sono davvero poche le situazioni irrisolvibili\, a volte basterebbe cambiare punto di vista per accorgersi di poter intraprendere una via alternativa. Non è quel che si vede\, ma come si vede. Non c’è un solo modo di osservare\, di ascoltare\, di vedere. Analizzare altri punti di vista. Ribaltare la realtà. Esplorare per trovare una nuova dimensione\, una realtà altra”. \ndi e con\nSabrina D’Aguanno e Sonia Di Gennaro \nProduzione Akerusia Danza\nDirezione artistica Elena D’Aguanno \nINFO: 0818392288 – info@akerusiadanza.it – www.akerusiadanza.it
URL:https://backup.sistemamedcampania.it/evento/akerusia-danza-forse-si-forse-no-4/
LOCATION:Festival CalaCitra Libri\, Laino Borgo\, Cosenza\, Italia
CATEGORIES:Akerusia Danza,Danza
ATTACH;FMTTYPE=image/jpeg:https://backup.sistemamedcampania.it/wp-content/uploads/2023/09/akerusia-danza-forse-si-forse-no.jpg
END:VEVENT
BEGIN:VEVENT
DTSTART;TZID=Europe/Rome:20230827T200000
DTEND;TZID=Europe/Rome:20230827T200000
DTSTAMP:20260422T211013
CREATED:20230821T194455Z
LAST-MODIFIED:20230821T194455Z
UID:8551-1693166400-1693166400@backup.sistemamedcampania.it
SUMMARY:Akerusia Danza - In - canto | suoni e suggestioni dal Sud
DESCRIPTION:Nell’ambito della programmazione di Officine Rione Terra | Rivivi il Rione Terra tra Arte e Cultura\, rassegna estiva organizzata da ArtGarage\, arriva In – Canto | suoni e suggestioni dal Sud. \nSul palco naturale della Terrazza Centimolo\, domenica 27 e lunedì 28 agosto alle ore 20\, un incontro tra musica\, prosa e danza. \nVoce narrante e cantante Francesca Rondinella \nCoreografia e danza Sabrina D’Aguanno\, Sonia Di Gennaro \nFisarmonica\, percussioni e sonorizzazioni Giosi Cincotti \nCoordinamento artistico Elena D’Aguanno \nLight designer Ciro Di Matteo \nGrafica Greta Paliotti \nProduzione Akerusia Danza \nIngresso gratuito\n \nPer info info@akerusiadanza.it – 081 839 2288 – www.artgarage.it
URL:https://backup.sistemamedcampania.it/evento/akerusia-danza-in-canto-suoni-e-suggestioni-dal-sud/
LOCATION:Rione Terra\, Pozzuoli\, Napoli\, Italia
CATEGORIES:Akerusia Danza,Musica
ATTACH;FMTTYPE=image/jpeg:https://backup.sistemamedcampania.it/wp-content/uploads/2023/08/akerusia-danza-officine-rione-terra-in-canto-suoni-e-suggestioni-dal-sud.jpg
END:VEVENT
BEGIN:VEVENT
DTSTART;TZID=Europe/Rome:20230827T200000
DTEND;TZID=Europe/Rome:20230827T200000
DTSTAMP:20260422T211013
CREATED:20230821T194455Z
LAST-MODIFIED:20230821T194455Z
UID:8551-1693166400-1693166400@backup.sistemamedcampania.it
SUMMARY:Akerusia Danza - In - canto | suoni e suggestioni dal Sud
DESCRIPTION:Nell’ambito della programmazione di Officine Rione Terra | Rivivi il Rione Terra tra Arte e Cultura\, rassegna estiva organizzata da ArtGarage\, arriva In – Canto | suoni e suggestioni dal Sud. \nSul palco naturale della Terrazza Centimolo\, domenica 27 e lunedì 28 agosto alle ore 20\, un incontro tra musica\, prosa e danza. \nVoce narrante e cantante Francesca Rondinella \nCoreografia e danza Sabrina D’Aguanno\, Sonia Di Gennaro \nFisarmonica\, percussioni e sonorizzazioni Giosi Cincotti \nCoordinamento artistico Elena D’Aguanno \nLight designer Ciro Di Matteo \nGrafica Greta Paliotti \nProduzione Akerusia Danza \nIngresso gratuito\n \nPer info info@akerusiadanza.it – 081 839 2288 – www.artgarage.it
URL:https://backup.sistemamedcampania.it/evento/akerusia-danza-in-canto-suoni-e-suggestioni-dal-sud/
LOCATION:Rione Terra\, Pozzuoli\, Napoli\, Italia
CATEGORIES:Akerusia Danza,Musica
ATTACH;FMTTYPE=image/jpeg:https://backup.sistemamedcampania.it/wp-content/uploads/2023/08/akerusia-danza-officine-rione-terra-in-canto-suoni-e-suggestioni-dal-sud.jpg
END:VEVENT
BEGIN:VEVENT
DTSTART;VALUE=DATE:20230428
DTEND;VALUE=DATE:20230429
DTSTAMP:20260422T211013
CREATED:20230420T143141Z
LAST-MODIFIED:20230420T143141Z
UID:8041-1682640000-1682726399@backup.sistemamedcampania.it
SUMMARY:Akerusia Danza - Forse sì forse no
DESCRIPTION:“Sono davvero poche le situazioni irrisolvibili\, a volte basterebbe cambiare punto di vista per accorgersi di poter intraprendere una via alternativa. Non è quel che si vede\, ma come si vede. Non c’è un solo modo di osservare\, di ascoltare\, di vedere. Analizzare altri punti di vista. Ribaltare la realtà. Esplorare per trovare una nuova dimensione\, una realtà altra”. \ndi e con\nSabrina D’Aguanno e Sonia Di Gennaro \nProduzione Akerusia Danza\nDirezione artistica Elena D’Aguanno \nINFO: 0818392288 – info@akerusiadanza.it
URL:https://backup.sistemamedcampania.it/evento/akerusia-danza-forse-si-forse-no-2/
LOCATION:Teatro Elicantropo\, Vico Gerolomini 3\, Napoli\, Napoli\, 80138\, Italia
CATEGORIES:Akerusia Danza,Danza
ATTACH;FMTTYPE=image/png:https://backup.sistemamedcampania.it/wp-content/uploads/2023/04/akerusia-danza-forse-si-forse-no-2.png
END:VEVENT
BEGIN:VEVENT
DTSTART;VALUE=DATE:20230423
DTEND;VALUE=DATE:20230424
DTSTAMP:20260422T211013
CREATED:20230419T193051Z
LAST-MODIFIED:20230419T193051Z
UID:8029-1682208000-1682294399@backup.sistemamedcampania.it
SUMMARY:Akerusia Danza - Forse sì forse no
DESCRIPTION:“Sono davvero poche le situazioni irrisolvibili\, a volte basterebbe cambiare punto di vista per accorgersi di poter intraprendere una via alternativa. Non è quel che si vede\, ma come si vede. Non c’è un solo modo di osservare\, di ascoltare\, di vedere. Analizzare altri punti di vista. Ribaltare la realtà. Esplorare per trovare una nuova dimensione\, una realtà altra”. \ndi e con\nSabrina D’Aguanno e Sonia Di Gennaro \nProduzione Akerusia Danza\nDirezione artistica Elena D’Aguanno \nINFO: 0818392288 – info@akerusiadanza.it
URL:https://backup.sistemamedcampania.it/evento/akerusia-danza-forse-si-forse-no/
LOCATION:Magma Teatro\, Via Vesuvio 55\, Torre Annunziata\, Napoli\, 80058\, Italia
CATEGORIES:Akerusia Danza,Danza
ATTACH;FMTTYPE=image/png:https://backup.sistemamedcampania.it/wp-content/uploads/2023/04/akerusia-danza-forse-si-forse-no.png
END:VEVENT
END:VCALENDAR