BEGIN:VCALENDAR
VERSION:2.0
PRODID:-//Sistema Med Campania - ECPv6.7.0//NONSGML v1.0//EN
CALSCALE:GREGORIAN
METHOD:PUBLISH
X-ORIGINAL-URL:https://backup.sistemamedcampania.it
X-WR-CALDESC:Eventi per Sistema Med Campania
REFRESH-INTERVAL;VALUE=DURATION:PT1H
X-Robots-Tag:noindex
X-PUBLISHED-TTL:PT1H
BEGIN:VTIMEZONE
TZID:Europe/Rome
BEGIN:DAYLIGHT
TZOFFSETFROM:+0100
TZOFFSETTO:+0200
TZNAME:CEST
DTSTART:20230326T010000
END:DAYLIGHT
BEGIN:STANDARD
TZOFFSETFROM:+0200
TZOFFSETTO:+0100
TZNAME:CET
DTSTART:20231029T010000
END:STANDARD
END:VTIMEZONE
BEGIN:VEVENT
DTSTART;TZID=Europe/Rome:20230924T210000
DTEND;TZID=Europe/Rome:20230924T210000
DTSTAMP:20260420T004542
CREATED:20230923T221846Z
LAST-MODIFIED:20230923T221846Z
UID:8676-1695589200-1695589200@backup.sistemamedcampania.it
SUMMARY:Progetto Sonora - Armando Rizzo Trio
DESCRIPTION:Armando Rizzo Trio nasce dall’idea di Armando Rizzo di portare la fisarmonica in ambienti ancora oggi poco abituali per questo strumento e riscoprire i compositori che hanno scritto musica per fisarmonica. \nL’idea è quella di unire il vecchio al nuovo\, creare\, attraverso il repertorio fisarmonico\, nuove sonorità ed esplorare nuovi orizzonti musicali\, con una continua ricerca di consonanze e dissonanze. \nArmando Rizzo fisarmonica \nCorrado Cirillo contrabasso e basso elettrico \nLuca Mignano batteria \nPer info www.progettosonora.it – info@progettosonora.it – 331 831 3993  \n 
URL:https://backup.sistemamedcampania.it/evento/progetto-sonora-armando-rizzo-trio/
LOCATION:Sala Assoli\, Vico Lungo Teatro Nuovo 110\, Napoli
CATEGORIES:Contemporary Speech,Musica,Progetto Sonora
ATTACH;FMTTYPE=image/jpeg:https://backup.sistemamedcampania.it/wp-content/uploads/2023/09/progetto-sonora-contemporary-speech-2.jpg
END:VEVENT
BEGIN:VEVENT
DTSTART;TZID=Europe/Rome:20230923T210000
DTEND;TZID=Europe/Rome:20230923T210000
DTSTAMP:20260420T004542
CREATED:20230922T154701Z
LAST-MODIFIED:20230922T155647Z
UID:8657-1695502800-1695502800@backup.sistemamedcampania.it
SUMMARY:Progetto Sonora - Pejman Tadayon Trio - Non siamo sufi
DESCRIPTION:Artista poliedrico\, diviso tra musica e pittura\, Pejman Tadayon come compositore e musicista si presenta con un nuovo progetto in Trio in cui risuona la sua stessa condizione esistenziale\, sospesa tra due culture diverse. Nativo di Esfahan\, città d’arte iraniana\,  e arrivato in Italia ancora giovane\, si è formato infatti nella ricchezza della tradizione persiana che ha avuto poi modo di confrontare con le molteplici suggestioni raccolte lungo la sua permanenza in Occidente. \nNon siamo sufi si prospetta pertanto come l’omaggio che un artista rivolge alla sua stessa formazione\, con la trasposizione in musica di alcune poesie di quattro grandi mistici persiani come Rumi\, Omar Khayyam\, Hafez e Saadì. Le musiche sono originali\, di sua composizione\, eseguite con gli strumenti classici della tradizione persiana in modo da rievocare le sonorità più pertinenti a quei versi\, tradotti però in italiano. \nSi va così svelando una verità più grande\, affidata alle pagine forse più significative della tradizione sufi: un sentimento di estraneità\, ad ogni appartenenza rigidamente intesa\, è indispensabile per vivere in piena libertà. \nPer info info@progettosonora.it – 331 831 3993 – www.progettosonora.it
URL:https://backup.sistemamedcampania.it/evento/progetto-sonora-pejman-tadayon-trio-non-siamo-sufi/
LOCATION:Sala Assoli\, Vico Lungo Teatro Nuovo 110\, Napoli
CATEGORIES:Contemporary Speech,Musica,Progetto Sonora
ATTACH;FMTTYPE=image/jpeg:https://backup.sistemamedcampania.it/wp-content/uploads/2023/09/progetto-sonora-contemporary-speech-1.jpg
END:VEVENT
BEGIN:VEVENT
DTSTART;TZID=Europe/Rome:20230917T210000
DTEND;TZID=Europe/Rome:20230917T210000
DTSTAMP:20260420T004542
CREATED:20230917T124915Z
LAST-MODIFIED:20230917T124915Z
UID:8631-1694984400-1694984400@backup.sistemamedcampania.it
SUMMARY:Progetto Sonora - Katarína Máliková Solo
DESCRIPTION:Katarína Máliková è una cantante (classe 1990)\, pianista\, compositrice e produttrice proveniente dalla regione montuosa di Horehronie\, nella Slovacchia centrale. Ha iniziato come artista di formazione classica\, e nel suo percorso artistico si è concentrata sulle sonorità tradizionali della sua terra d’origine arrivando ad essere una musicista acclamata a livello internazionale. \nLa sua musica è difficile da descrivere\, poiché viaggia attraverso un intero ventaglio di generi\, ma la base è in qualche modo costante: una brillante esecuzione pianistica con voci di gamma alta\, che spesso camminano sull’orlo delle possibilità in ogni registro. \nPer info info@progettosonora.it – 331 831 3993 – www.progettosonora.it
URL:https://backup.sistemamedcampania.it/evento/progetto-sonora-katarina-malikova-solo/
LOCATION:Sala Assoli\, Vico Lungo Teatro Nuovo 110\, Napoli
CATEGORIES:Contemporary Speech,Musica,Progetto Sonora
ATTACH;FMTTYPE=image/jpeg:https://backup.sistemamedcampania.it/wp-content/uploads/2023/09/progetto-sonora-contemporary-speech.jpg
END:VEVENT
END:VCALENDAR