BEGIN:VCALENDAR
VERSION:2.0
PRODID:-//Sistema Med Campania - ECPv6.7.0//NONSGML v1.0//EN
CALSCALE:GREGORIAN
METHOD:PUBLISH
X-ORIGINAL-URL:https://backup.sistemamedcampania.it
X-WR-CALDESC:Eventi per Sistema Med Campania
REFRESH-INTERVAL;VALUE=DURATION:PT1H
X-Robots-Tag:noindex
X-PUBLISHED-TTL:PT1H
BEGIN:VTIMEZONE
TZID:Europe/Rome
BEGIN:DAYLIGHT
TZOFFSETFROM:+0100
TZOFFSETTO:+0200
TZNAME:CEST
DTSTART:20230326T010000
END:DAYLIGHT
BEGIN:STANDARD
TZOFFSETFROM:+0200
TZOFFSETTO:+0100
TZNAME:CET
DTSTART:20231029T010000
END:STANDARD
END:VTIMEZONE
BEGIN:VEVENT
DTSTART;TZID=Europe/Rome:20230323T203000
DTEND;TZID=Europe/Rome:20230323T203000
DTSTAMP:20260422T102758
CREATED:20230317T101625Z
LAST-MODIFIED:20230320T141837Z
UID:7881-1679603400-1679603400@backup.sistemamedcampania.it
SUMMARY:Associazione Alessandro Scarlatti - Quartetto Adorno & Sandro De Palma
DESCRIPTION:Per l’ Associazione Alessandro Scarlatti  ancora interpreti straordinari per esplorare il repertorio per quintetto. Giovedì 23 marzo al Teatro Sannazaro alle ore 20:30\, il giovane ma già affermatissimo Quartetto Adorno insieme al pianista Sandro De Palma\, eclettico esponente della scuola musicale napoletana di Vincenzo Vitale\, accosteranno i due capolavori per pianoforte ed archi del secondo ‘800 francese\, Saint-Saëns e Franck. \nIl programma presenta quindi due protagonisti della musica francese del secondo ‘800. Pur molto diversi nel carattere e anche spesso in competizione\, i due compositori furono uniti proprio da questi due brani: nel 1855\, appena ventenne\, Saint-Saëns compose il Quintetto in la minore op. 14\, dedicandolo all’amata prozia Charlotte Masson. Come interprete invece l’artista parigino mise il proprio virtuosismo di pianista al servizio di uno dei più ambiziosi brani del suo tempo\, il Quintetto in fa minore di César Franck alla cui prima esecuzione partecipò nel 1880. L’ampiezza delle dimensioni e la ricchezza del contrappunto caratterizzano entrambe le  partiture. \n  \nQUARTETTO ADORNO \nEdoardo Zosi violino\nLiù Pelliciari violino\nBenedetta Bucci viola\nStefano Cerrato violoncello \n  \nSANDRO DE PALMA pianoforte \n  \nPROGRAMMA \nCamille Saint-Saëns – Quintetto in la minore op. 14;  \nCésar Franck – Quintetto in fa minore \n  \nInfo: 081 406011; info@associazionescarlatti.it; www.associazionescarlatti.it
URL:https://backup.sistemamedcampania.it/evento/associazione-alessandro-scarlatti-quartetto-adorno-sandro-de-palma/
LOCATION:Teatro Sannazaro\, Via Chiaia\, 157\, Napoli\, 80121\, Italia
CATEGORIES:Associazione Alessandro Scarlatti.,Musica
ATTACH;FMTTYPE=image/png:https://backup.sistemamedcampania.it/wp-content/uploads/2023/03/associazione-a-scarlatti-quartetto-adorno-sandro-de-palma.png
END:VEVENT
END:VCALENDAR