BEGIN:VCALENDAR
VERSION:2.0
PRODID:-//Sistema Med Campania - ECPv6.7.0//NONSGML v1.0//EN
CALSCALE:GREGORIAN
METHOD:PUBLISH
X-ORIGINAL-URL:https://backup.sistemamedcampania.it
X-WR-CALDESC:Eventi per Sistema Med Campania
REFRESH-INTERVAL;VALUE=DURATION:PT1H
X-Robots-Tag:noindex
X-PUBLISHED-TTL:PT1H
BEGIN:VTIMEZONE
TZID:Europe/Rome
BEGIN:DAYLIGHT
TZOFFSETFROM:+0100
TZOFFSETTO:+0200
TZNAME:CEST
DTSTART:20230326T010000
END:DAYLIGHT
BEGIN:STANDARD
TZOFFSETFROM:+0200
TZOFFSETTO:+0100
TZNAME:CET
DTSTART:20231029T010000
END:STANDARD
END:VTIMEZONE
BEGIN:VEVENT
DTSTART;TZID=Europe/Rome:20230924T203000
DTEND;TZID=Europe/Rome:20230924T203000
DTSTAMP:20260420T020457
CREATED:20230923T155337Z
LAST-MODIFIED:20230923T155337Z
UID:8673-1695587400-1695587400@backup.sistemamedcampania.it
SUMMARY:Dissonanzen - Follie solitarie
DESCRIPTION:Terzo e ultimo appuntamento della quarta edizione di Suoni in Certosa!\, rassegna organizzata da Dissonanzen alla Certosa di San Martino di Napoli. \nFollie solitarie vede Laura Pontecorvo\, una delle massime esperte di flauto traverso barocco\, confrontarsi con letterature e strumenti differenti: dal traversiere di Assisi al flauto costruito nella Francia di Luigi XIV da Jean-Jacques Hotteterre fino ai flauti costruiti nella Germania del primo Settecento\, abbinati al coevo repertorio franco-tedesco. \nLaura Pontecorvo flauto traverso barocco \ncon la partecipazione di Tommaso Rossi flauto traverso barocco \nMusiche di Jacob Van Eyck\, Marin Marais\, Pierre Philidor\, Georg Philipp Telemann\, Johann Sebastian Bach \nLa partecipazione al concerto è compresa nel biglietto di ingresso al museo \nPer info www.dissonanzen.it – info@dissonanzen.it – 350 945 6706
URL:https://backup.sistemamedcampania.it/evento/dissonanzen-follie-solitarie/
LOCATION:Certosa e Museo di San Martino\, Largo S. Martino\, 5\,\, Napoli\, 80129\, Italia
CATEGORIES:Dissonanzen,Musica
ATTACH;FMTTYPE=image/jpeg:https://backup.sistemamedcampania.it/wp-content/uploads/2023/09/dissonanzen-suoni-in-certosa.jpg
END:VEVENT
BEGIN:VEVENT
DTSTART;TZID=Europe/Rome:20230916T203000
DTEND;TZID=Europe/Rome:20230916T203000
DTSTAMP:20260420T020457
CREATED:20230914T145502Z
LAST-MODIFIED:20230914T145502Z
UID:8602-1694896200-1694896200@backup.sistemamedcampania.it
SUMMARY:Dissonanzen - A tre voci
DESCRIPTION:Continua la IV edizione di Suoni in Certosa!\, rassegna organizzata da Dissonanzen alla Certosa di San Martino. \nQuesto secondo appuntamento\, dal titolo A tre voci\, si dedica al flauto dolce: Tommaso Rossi\, Alessandro De Carolis e Lorenza Maio interpreteranno un repertorio polifonico quattro/cinquecentesco. \nIn programma\, musiche anonime dal manoscritto MS Q. 16 (Bologna 1487)\, di Guillaume Dufay\, Antoine Busnois\, Josquin Desprez\, Cristopher Tye\, Vincenzo Ruffo. \nPer info 350 945 6706 – info@dissonanzen.it – www.dissonanzen.it
URL:https://backup.sistemamedcampania.it/evento/dissonanzen-a-tre-voci/
LOCATION:Certosa e Museo di San Martino\, Largo S. Martino\, 5\,\, Napoli\, 80129\, Italia
CATEGORIES:Dissonanzen,Musica
ATTACH;FMTTYPE=image/jpeg:https://backup.sistemamedcampania.it/wp-content/uploads/2023/09/dissonanzen-a-tre-voci.jpg
END:VEVENT
END:VCALENDAR