BEGIN:VCALENDAR
VERSION:2.0
PRODID:-//Sistema Med Campania - ECPv6.7.0//NONSGML v1.0//EN
CALSCALE:GREGORIAN
METHOD:PUBLISH
X-WR-CALNAME:Sistema Med Campania
X-ORIGINAL-URL:https://backup.sistemamedcampania.it
X-WR-CALDESC:Eventi per Sistema Med Campania
REFRESH-INTERVAL;VALUE=DURATION:PT1H
X-Robots-Tag:noindex
X-PUBLISHED-TTL:PT1H
BEGIN:VTIMEZONE
TZID:Europe/Rome
BEGIN:DAYLIGHT
TZOFFSETFROM:+0100
TZOFFSETTO:+0200
TZNAME:CEST
DTSTART:20230326T010000
END:DAYLIGHT
BEGIN:STANDARD
TZOFFSETFROM:+0200
TZOFFSETTO:+0100
TZNAME:CET
DTSTART:20231029T010000
END:STANDARD
END:VTIMEZONE
BEGIN:VEVENT
DTSTART;TZID=Europe/Rome:20231012T180000
DTEND;TZID=Europe/Rome:20231012T180000
DTSTAMP:20260420T034656
CREATED:20231009T210403Z
LAST-MODIFIED:20231009T210403Z
UID:8713-1697133600-1697133600@backup.sistemamedcampania.it
SUMMARY:Körper - Save the last dance for me
DESCRIPTION:In Save the last dance for me Alessandro Sciarroni lavora assieme ai danzatori Gianmaria Borzillo e Giovanfrancesco Giannini sui passi di un ballo bolognese chiamato Polka Chinata. \nSi tratta di una danza di corteggiamento eseguita in origine da soli uomini e risalente ai primi del ‘900: fisicamente impegnativa\, quasi acrobatica\, prevede che i danzatori abbracciati l’un l’altro girino vorticosamente mentre si piegano sulle ginocchia quasi fino a terra. \nIl lavoro nasce in collaborazione con Giancarlo Stagni\, un maestro di balli Filuzziani che ha ridato vita a questa antica tradizione grazie alla riscoperta e allo studio di alcuni video di documentazione risalenti agli anni ’60. \nPrenotazione obbligatoria alla mail ciakorper@gmail.com \nPer maggiori informazioni www.korper.it
URL:https://backup.sistemamedcampania.it/evento/korper-save-the-last-dance-for-me/
LOCATION:Chiesa di San Domenico Maggiore\, P.za S. Domenico Maggiore\, 8A\, Napoli\, 80134\, Italia
CATEGORIES:Danza,Körper
ATTACH;FMTTYPE=image/jpeg:https://backup.sistemamedcampania.it/wp-content/uploads/2023/10/korper-save-the-last-dance-for-me-di-alessandro-sciarroni.jpg
END:VEVENT
BEGIN:VEVENT
DTSTART;TZID=Europe/Rome:20231012T180000
DTEND;TZID=Europe/Rome:20231012T180000
DTSTAMP:20260420T034656
CREATED:20231009T210403Z
LAST-MODIFIED:20231009T210403Z
UID:8713-1697133600-1697133600@backup.sistemamedcampania.it
SUMMARY:Körper - Save the last dance for me
DESCRIPTION:In Save the last dance for me Alessandro Sciarroni lavora assieme ai danzatori Gianmaria Borzillo e Giovanfrancesco Giannini sui passi di un ballo bolognese chiamato Polka Chinata. \nSi tratta di una danza di corteggiamento eseguita in origine da soli uomini e risalente ai primi del ‘900: fisicamente impegnativa\, quasi acrobatica\, prevede che i danzatori abbracciati l’un l’altro girino vorticosamente mentre si piegano sulle ginocchia quasi fino a terra. \nIl lavoro nasce in collaborazione con Giancarlo Stagni\, un maestro di balli Filuzziani che ha ridato vita a questa antica tradizione grazie alla riscoperta e allo studio di alcuni video di documentazione risalenti agli anni ’60. \nPrenotazione obbligatoria alla mail ciakorper@gmail.com \nPer maggiori informazioni www.korper.it
URL:https://backup.sistemamedcampania.it/evento/korper-save-the-last-dance-for-me/
LOCATION:Chiesa di San Domenico Maggiore\, P.za S. Domenico Maggiore\, 8A\, Napoli\, 80134\, Italia
CATEGORIES:Danza,Körper
ATTACH;FMTTYPE=image/jpeg:https://backup.sistemamedcampania.it/wp-content/uploads/2023/10/korper-save-the-last-dance-for-me-di-alessandro-sciarroni.jpg
END:VEVENT
BEGIN:VEVENT
DTSTART;TZID=Europe/Rome:20230917T210000
DTEND;TZID=Europe/Rome:20230917T210000
DTSTAMP:20260420T034656
CREATED:20230917T124915Z
LAST-MODIFIED:20230917T124915Z
UID:8631-1694984400-1694984400@backup.sistemamedcampania.it
SUMMARY:Progetto Sonora - Katarína Máliková Solo
DESCRIPTION:Katarína Máliková è una cantante (classe 1990)\, pianista\, compositrice e produttrice proveniente dalla regione montuosa di Horehronie\, nella Slovacchia centrale. Ha iniziato come artista di formazione classica\, e nel suo percorso artistico si è concentrata sulle sonorità tradizionali della sua terra d’origine arrivando ad essere una musicista acclamata a livello internazionale. \nLa sua musica è difficile da descrivere\, poiché viaggia attraverso un intero ventaglio di generi\, ma la base è in qualche modo costante: una brillante esecuzione pianistica con voci di gamma alta\, che spesso camminano sull’orlo delle possibilità in ogni registro. \nPer info info@progettosonora.it – 331 831 3993 – www.progettosonora.it
URL:https://backup.sistemamedcampania.it/evento/progetto-sonora-katarina-malikova-solo/
LOCATION:Sala Assoli\, Vico Lungo Teatro Nuovo 110\, Napoli
CATEGORIES:Contemporary Speech,Musica,Progetto Sonora
ATTACH;FMTTYPE=image/jpeg:https://backup.sistemamedcampania.it/wp-content/uploads/2023/09/progetto-sonora-contemporary-speech.jpg
END:VEVENT
BEGIN:VEVENT
DTSTART;TZID=Europe/Rome:20230917T193000
DTEND;TZID=Europe/Rome:20230917T193000
DTSTAMP:20260420T034656
CREATED:20230916T181516Z
LAST-MODIFIED:20230916T181516Z
UID:8626-1694979000-1694979000@backup.sistemamedcampania.it
SUMMARY:SKARAMACAY - Notte mirabile (quando Napoli stava per morire)
DESCRIPTION:Nell’ambito della rassegna promossa dal Comune di Napoli Estate a Napoli\, Erminia Sticchi con Skaramacay presenta Notte mirabile…quando Napoli stava per morire.\n\nUna notte qualunque in una Napoli misteriosa e sensuale\, tra note\, parole e corpi che raccontano della Sirena Partenope e del suo popolo amorevole e dannato. Un’indagine sulla tradizione che diventa strumento di inclusione.\n\n\nScritto e  diretto da Erminia Sticchi \nCon Imma Tammaro\, Anna Cammisa\, Marica Cimmino\, Emanuela Milo\, Giuseppe Messere\nLight & sound Nestor Aiello\nProduzione SKARAMACAY\n\n\nTicket e prenotazioni info@skaramacay.com
URL:https://backup.sistemamedcampania.it/evento/skaramacay-notte-mirabile-quando-napoli-stava-per-morire/
LOCATION:Auditorium Porta del Parco\, Via Diocleziano 341\, Napoli\, Napoli\, 80124\, Italia
CATEGORIES:Danza,Skaramacay
ATTACH;FMTTYPE=image/jpeg:https://backup.sistemamedcampania.it/wp-content/uploads/2023/09/skaramacay.jpg
END:VEVENT
BEGIN:VEVENT
DTSTART;TZID=Europe/Rome:20230803T210000
DTEND;TZID=Europe/Rome:20230803T210000
DTSTAMP:20260420T034656
CREATED:20230731T214634Z
LAST-MODIFIED:20230731T214634Z
UID:8483-1691096400-1691096400@backup.sistemamedcampania.it
SUMMARY:Fondazione F.M. Napolitano - La Musica a Napoli
DESCRIPTION:Confermando la sinergia tra le isole del golfo inaugurata lo scorso anno\, il festival Dal Barocco al Jazz 2023 sceglie di chiudere la propria programmazione a Ischia. \nIl 3 agosto (ore 21)\, nell’affascinante Castello Aragonese\, andrà in scena il concerto “La Musica a Napoli\, dal barocco alla canzone napoletana”\, un appuntamento inedito che vedrà affiancati i fratelli Riccardo ed Emilia Zamuner. \nI due artisti\, accompagnati dagli archi dei “Virtuosi di Sansevero” in quintetto (Federica Tranzillo al primo violino\, Alberto Marano al secondo violino\, Martina Iacò alla viola\, Arianna Di Martino al violoncello e Gianluigi Pennino al contrabbasso)\, presenteranno sull’isola verde un concerto dedicato alla tradizione musicale partenopea che spazierà dal Barocco alla canzone classica napoletana con contaminazioni e improvvisazioni barocche e jazz. \nPer info fondazionenapolitano@gmail.com – www.fondazionenapolitano.com
URL:https://backup.sistemamedcampania.it/evento/fondazione-f-m-napolitano-la-musica-a-napoli/
LOCATION:Castello Aragonese di Ischia\, Via Pontile 3\, Ischia\, Napoli\, 80077\, Italia
CATEGORIES:Fondazione Franco Michele Napolitano,Musica
ATTACH;FMTTYPE=image/jpeg:https://backup.sistemamedcampania.it/wp-content/uploads/2023/07/fondazione-fm-napolitano-la.jpg
END:VEVENT
END:VCALENDAR