BEGIN:VCALENDAR
VERSION:2.0
PRODID:-//Sistema Med Campania - ECPv6.7.0//NONSGML v1.0//EN
CALSCALE:GREGORIAN
METHOD:PUBLISH
X-WR-CALNAME:Sistema Med Campania
X-ORIGINAL-URL:https://backup.sistemamedcampania.it
X-WR-CALDESC:Eventi per Sistema Med Campania
REFRESH-INTERVAL;VALUE=DURATION:PT1H
X-Robots-Tag:noindex
X-PUBLISHED-TTL:PT1H
BEGIN:VTIMEZONE
TZID:Europe/Rome
BEGIN:DAYLIGHT
TZOFFSETFROM:+0100
TZOFFSETTO:+0200
TZNAME:CEST
DTSTART:20230326T010000
END:DAYLIGHT
BEGIN:STANDARD
TZOFFSETFROM:+0200
TZOFFSETTO:+0100
TZNAME:CET
DTSTART:20231029T010000
END:STANDARD
END:VTIMEZONE
BEGIN:VEVENT
DTSTART;TZID=Europe/Rome:20231007T180000
DTEND;TZID=Europe/Rome:20231007T180000
DTSTAMP:20260420T051807
CREATED:20231006T172533Z
LAST-MODIFIED:20231006T172533Z
UID:8691-1696701600-1696701600@backup.sistemamedcampania.it
SUMMARY:Körper meets TIRDanza | Nicola Galli
DESCRIPTION:Venerdì 6 e sabato 7 ottobre\, Körper incontra TIR Danza\, organismo di produzione che opera nel campo della danza contemporanea d’autore e di ricerca. \nIn scena allo Spazio Körper\, due lavori del giovane coreografo Nicola Galli: la performance interattiva Genoma scenico e Ultra\, creazione che vuole offrire una visione su un mondo nascosto portando alla luce un processo trasfromativo incarnato da due corpi. \nPer info e biglietti www.azzurroservice.net – info@korper.it – www.korper.it
URL:https://backup.sistemamedcampania.it/evento/korper-meets-tirdanza-nicola-galli/
LOCATION:Spazio  Körper\, Via Vannella Gaetani 27\, Napoli\, Napoli\, 80121\, Italia
CATEGORIES:Danza,Körper
ATTACH;FMTTYPE=image/jpeg:https://backup.sistemamedcampania.it/wp-content/uploads/2023/10/korpermeetstirdanza.jpg
END:VEVENT
END:VCALENDAR