BEGIN:VCALENDAR
VERSION:2.0
PRODID:-//Sistema Med Campania - ECPv6.7.0//NONSGML v1.0//EN
CALSCALE:GREGORIAN
METHOD:PUBLISH
X-WR-CALNAME:Sistema Med Campania
X-ORIGINAL-URL:https://backup.sistemamedcampania.it
X-WR-CALDESC:Eventi per Sistema Med Campania
REFRESH-INTERVAL;VALUE=DURATION:PT1H
X-Robots-Tag:noindex
X-PUBLISHED-TTL:PT1H
BEGIN:VTIMEZONE
TZID:Europe/Rome
BEGIN:DAYLIGHT
TZOFFSETFROM:+0100
TZOFFSETTO:+0200
TZNAME:CEST
DTSTART:20230326T010000
END:DAYLIGHT
BEGIN:STANDARD
TZOFFSETFROM:+0200
TZOFFSETTO:+0100
TZNAME:CET
DTSTART:20231029T010000
END:STANDARD
END:VTIMEZONE
BEGIN:VEVENT
DTSTART;TZID=Europe/Rome:20230921T200000
DTEND;TZID=Europe/Rome:20230921T200000
DTSTAMP:20260420T034857
CREATED:20230919T154345Z
LAST-MODIFIED:20230919T154345Z
UID:8647-1695326400-1695326400@backup.sistemamedcampania.it
SUMMARY:Nuova Orchestra Scarlatti - Dentro Rigoletto
DESCRIPTION:Nel Cortile delle Statue dell’Università Federico II di Napoli\, la Nuova Orchestra Scarlatti stavolta porta Dentro Rigoletto. \nIn un’agile forma di concerto\, che vuole accostare il più ampio pubblico all’opera lirica\, sono presentati i momenti clou del Rigoletto di Giuseppe Verdi sotto la direzione di Alfonso Todisco\, attraverso un veloce filo narrativo che facilita la platea ad addentrarsi nel vivo della scena. \nPer info info@nuovaorchestrascarlatti.it – 081 253 5984 – www.nuovaorchestrascarlatti.it
URL:https://backup.sistemamedcampania.it/evento/nuova-orchestra-scarlatti-dentro-rigoletto/
LOCATION:Cortile delle Statue della Federico II – Napoli\, Via Paladino\, 39\, Napoli\, Italia
CATEGORIES:Musica,Nuova Orchestra Scarlatti
ATTACH;FMTTYPE=image/jpeg:https://backup.sistemamedcampania.it/wp-content/uploads/2023/09/nuova-orchestra-scarlatti-dentro-rigoletto.jpg
END:VEVENT
BEGIN:VEVENT
DTSTART;TZID=Europe/Rome:20230917T200000
DTEND;TZID=Europe/Rome:20230917T200000
DTSTAMP:20260420T034857
CREATED:20230917T163103Z
LAST-MODIFIED:20230917T163103Z
UID:8637-1694980800-1694980800@backup.sistemamedcampania.it
SUMMARY:Nuova Orchestra Scarlatti - Dentro il Barbiere
DESCRIPTION:Dopo l’anteprima al Teatro Partenio\, la Nuova Orchestra Scarlatti\, insieme all’Associazione Zenit 2000\, porta nel Cortile delle Statue della Federico || Dentro il Barbiere\, selezione semiscenica dell’opera il Barbiere di Siviglia di Gioachino Rossini. \nNel ruolo di Rosina il mezzosoprano Giacinta Nicotra\, il Conte di Almaviva è Gaetano Amore\, mentre Figaro è interpretato da Juan Possidente. La narrazione è a cura della voce di Enzo Viccaro e la direzione musicale del maestro Massimo Testa. \nPer info info@nuovaorchestrascarlatti.it – 081 253 5984 – www.nuovaorchestrascarlatti.it
URL:https://backup.sistemamedcampania.it/evento/nuova-orchestra-scarlatti-dentro-il-barbiere/
LOCATION:Cortile delle Statue della Federico II – Napoli\, Via Paladino\, 39\, Napoli\, Italia
CATEGORIES:Musica,Nuova Orchestra Scarlatti
ATTACH;FMTTYPE=image/jpeg:https://backup.sistemamedcampania.it/wp-content/uploads/2023/09/nos-dentro-il-barbiere.jpg
END:VEVENT
BEGIN:VEVENT
DTSTART;VALUE=DATE:20230913
DTEND;VALUE=DATE:20230914
DTSTAMP:20260420T034857
CREATED:20230912T141650Z
LAST-MODIFIED:20230912T141650Z
UID:8599-1694563200-1694649599@backup.sistemamedcampania.it
SUMMARY:Nuova Orchestra Scarlatti - Per Bosso
DESCRIPTION:La Nuova Orchestra Scarlatti mette su\, il 13 settembre nel Cortile delle Statue dell’Università Federico || di Napoli\, Per Bosso. \nIn programma\, il Concerto per violino\, archi e timpani – suggestivo intreccio tra neobarocco e minimalismo – e altri brani originali del popolarissimo musicista Ezio Bosso. Violino solista sarà Davide Romano. \nPer info info@nuovaorchestrascarlatti.it – 081 253 5984 – www.nuovaorchestrascarlatti.it \n 
URL:https://backup.sistemamedcampania.it/evento/nuova-orchestra-scarlatti-per-bosso/
LOCATION:Cortile delle Statue della Federico II – Napoli\, Via Paladino\, 39\, Napoli\, Italia
CATEGORIES:Musica,Nuova Orchestra Scarlatti
ATTACH;FMTTYPE=image/jpeg:https://backup.sistemamedcampania.it/wp-content/uploads/2023/09/nuova-orchestra-scarlatti-1.jpg
END:VEVENT
BEGIN:VEVENT
DTSTART;VALUE=DATE:20230804
DTEND;VALUE=DATE:20230806
DTSTAMP:20260420T034857
CREATED:20230801T170859Z
LAST-MODIFIED:20230801T170859Z
UID:8492-1691107200-1691279999@backup.sistemamedcampania.it
SUMMARY:Nuova Orchestra Scarlatti - Sogni di una notte d'estate
DESCRIPTION:La Nuova Orchestra Scarlatti ha in programma il 4 agosto al Cortile delle Statue della Federico II di Napoli e il 5 agosto a Praiano Sogni di una notte d’estate\, un collage di varie suggestioni sinfoniche\, tra repertorio classico\, ambient\, minimalismo e cinema – da Salieri ad Arvo Pärt – in un ininterrotto flusso musicale elaborato e diretto da Marco Attura. \nPer info info@nuovaorchestrascarlatti.it – 081 253 5984 – www.nuovaorchestrascarlatti.it
URL:https://backup.sistemamedcampania.it/evento/nuova-orchestra-scarlatti-sogni-di-una-notte-destate/
LOCATION:Cortile delle Statue della Federico II – Napoli\, Via Paladino\, 39\, Napoli\, Italia
CATEGORIES:Musica,Nuova Orchestra Scarlatti
ATTACH;FMTTYPE=image/jpeg:https://backup.sistemamedcampania.it/wp-content/uploads/2023/08/nuova-orchestra-scarlatti.jpg
END:VEVENT
BEGIN:VEVENT
DTSTART;TZID=Europe/Rome:20230720T193000
DTEND;TZID=Europe/Rome:20230720T193000
DTSTAMP:20260420T034857
CREATED:20230719T164236Z
LAST-MODIFIED:20230719T164314Z
UID:8437-1689881400-1689881400@backup.sistemamedcampania.it
SUMMARY:Nuova Orchestra Scarlatti - Giovani talenti
DESCRIPTION:Prosegue con crescente partecipazione Luglio musicale 2023\, rassegna estiva della Nuova Orchestra Scarlatti realizzata in collaborazione con l’Università Federico II di Napoli. \nGiovedì 20 luglio\, alle ore 19.30\, presso la Chiesa dei SS. Marcellino e Festo appuntamento con Giovani talenti: l’Orchestra Scarlatti Young\, composta da giovani musicisti cresciuti nella Comunità delle Orchestre Scarlatti\, propone un programma ricco. Si spazia da Vivaldi\, con il Concerto alla rustica per archi e due capolavori pieni di vigore e di passione\, il Concerto per 2 violini e archi in la minore op. 3 n. 8 (solisti Salvatore Morvillo e Fabiana D’Auria) e il Concerto per violoncello e archi in re minore RV 406 (violoncello solista Vittorio Infermo)\, all’Albinoni razionale e luminoso della Sinfonia in sol; dall’ispirazione nobile di Telemann\, con il suo bellissimo Concerto per viola e archi (solista Matteo Introna)\, e di Alessandro Scarlatti\, con una deliziosa Suite per archi\, a raffinate rielaborazioni di alcune antiche danze di Leonardo Vinci. \nPer info e biglietti info@nuovaorchestrascarlatti.it – www.nuovaorchestrascarlatti.it – www.azzurroservice.net \n 
URL:https://backup.sistemamedcampania.it/evento/nuova-orchestra-scarlatti-giovani-talenti/
LOCATION:Chiesa dei SS. Marcellino e Festo\, Largo S. Marcellino\, Napoli\, 80138\, Italia
CATEGORIES:Musica,Nuova Orchestra Scarlatti
ATTACH;FMTTYPE=image/jpeg:https://backup.sistemamedcampania.it/wp-content/uploads/2023/07/nuova-orchestra-scarlatti-luglio-musicale-2023-giovani-talenti1.jpg
END:VEVENT
BEGIN:VEVENT
DTSTART;TZID=Europe/Rome:20230427T170000
DTEND;TZID=Europe/Rome:20230427T170000
DTSTAMP:20260420T034857
CREATED:20230404T200433Z
LAST-MODIFIED:20230425T183329Z
UID:8023-1682614800-1682614800@backup.sistemamedcampania.it
SUMMARY:Scarlatti Camera Young - Dialoghi musicali alla Federico II
DESCRIPTION:Si conclude\, con il suo quarto e ultimo appuntamento\, Scarlatti Camera Young – Dialoghi musicali alla Federico II\, rassegna organizzata dalla Nuova Orchestra Scarlatti. \nStavolta ci troviamo nel suggestivo Archivio di Stato di Napoli\, dove il Quartetto Scarlatti insieme al clarinettista Gaetano Russo interpretano alcune musiche di Borodin\, Šostakóvič\, Stravinskij e il Quintetto K 581 di Mozart. \nIl concerto è introdotto dalle parole del Professor Marco Bizzarini. \nInfo: 081 253 5984 – info@nuovaorchestrascarlatti.it – https://www.nuovaorchestrascarlatti.it/ \n 
URL:https://backup.sistemamedcampania.it/evento/scarlatti-camera-young-dialoghi-musicali-alla-federico-ii-4/
LOCATION:Archivio di Stato\, Via Del Grande Archivio 5\, Napoli\, Napoli\, 80138\, Italia
CATEGORIES:Musica,Nuova Orchestra Scarlatti,Scarlatti Camera Young - Dialoghi musicali alla Federico II
ATTACH;FMTTYPE=image/png:https://backup.sistemamedcampania.it/wp-content/uploads/2023/04/nuova-orchestra-scarlatti-scarlatti-camera-young-dialoghi-musicali-alla-federico-ii.png
END:VEVENT
BEGIN:VEVENT
DTSTART;TZID=Europe/Rome:20230424T180000
DTEND;TZID=Europe/Rome:20230424T180000
DTSTAMP:20260420T034857
CREATED:20230404T145805Z
LAST-MODIFIED:20230404T150736Z
UID:8020-1682359200-1682359200@backup.sistemamedcampania.it
SUMMARY:Scarlatti Camera Young - Dialoghi musicali alla Federico II
DESCRIPTION:Lunedì 24 aprile alle ore 18 nell’affascinante Chiesa dei SS. Marcellino e Festo\, torna\, con il suo terzo appuntamento\, Scarlatti Camera Young – Dialoghi musicali alla Federico II. \nLa rassegna\, organizzata dalla Nuova Orchestra Scarlatti\, intende coniugare da un lato la promozione dei giovani talenti del territorio\, dall’altro l’intreccio tra proposta musicale\, formazione e ricerca. \nQuesta volta in programma c’è il Quintetto di Mozart e il Sestetto di Poulenc per pianoforte e fiati. Il tutto aperto dall’interessante introduzione della Dottoressa Maria Rossetti. \nInfo: 081 253 5984 – info@nuovaorchestrascarlatti.it – https://www.nuovaorchestrascarlatti.it/
URL:https://backup.sistemamedcampania.it/evento/scarlatti-camera-young-dialoghi-musicali-alla-federico-ii-3/
LOCATION:Chiesa dei SS. Marcellino e Festo\, Largo S. Marcellino\, Napoli\, 80138\, Italia
CATEGORIES:Musica,Nuova Orchestra Scarlatti,Scarlatti Camera Young - Dialoghi musicali alla Federico II
ATTACH;FMTTYPE=image/png:https://backup.sistemamedcampania.it/wp-content/uploads/2023/04/nuova-orchestra-scarlatti-scarlatti-camera-young-dialoghi-musicali-alla-federico-ii.png
END:VEVENT
BEGIN:VEVENT
DTSTART;TZID=Europe/Rome:20230422T180000
DTEND;TZID=Europe/Rome:20230422T180000
DTSTAMP:20260420T034857
CREATED:20230403T182654Z
LAST-MODIFIED:20230404T145950Z
UID:8017-1682186400-1682186400@backup.sistemamedcampania.it
SUMMARY:Scarlatti Camera Young - Dialoghi musicali alla Federico II
DESCRIPTION:La rassegna Scarlatti Camera Young – Dialoghi musicali alla Federico II\, organizzata dalla Nuova Orchestra Scarlatti\, prosegue ancora nell’affascinante Chiesa dei SS. Marcellino e Festo. \nIl 22 aprile alle ore 18 i giovani talenti del territorio\, cresciuti nelle file dei laboratori e dell’attività dell’Orchestra Scarlatti Junior e Young\, si confronteranno con i Trii di Mozart e Brahms. Stavolta il concerto verrà introdotto dalla Dottoressa Maria Rossetti. \nInfo: 081 253 5984 – info@nuovaorchestrascarlatti.it – https://www.nuovaorchestrascarlatti.it/
URL:https://backup.sistemamedcampania.it/evento/scarlatti-camera-young-dialoghi-musicali-alla-federico-ii-2/
LOCATION:Chiesa dei SS. Marcellino e Festo\, Largo S. Marcellino\, Napoli\, 80138\, Italia
CATEGORIES:Musica,Nuova Orchestra Scarlatti,Scarlatti Camera Young - Dialoghi musicali alla Federico II
ATTACH;FMTTYPE=image/png:https://backup.sistemamedcampania.it/wp-content/uploads/2023/04/nuova-orchestra-scarlatti-scarlatti-camera-young-dialoghi-musicali-alla-federico-ii.png
END:VEVENT
BEGIN:VEVENT
DTSTART;TZID=Europe/Rome:20230413T180000
DTEND;TZID=Europe/Rome:20230413T180000
DTSTAMP:20260420T034857
CREATED:20230403T174623Z
LAST-MODIFIED:20230403T174623Z
UID:8014-1681408800-1681408800@backup.sistemamedcampania.it
SUMMARY:Scarlatti Camera Young - Dialoghi musicali alla Federico II
DESCRIPTION:Nella splendida cornice barocca della Chiesa dei SS. Marcellino e Festo nel cuore della cittadella universitaria di Napoli\, la Nuova Orchestra Scarlatti inaugura Scarlatti Camera Young – Dialoghi musicali alla Federico II. La rassegna si compone di quattro ricchi appuntamenti cameristici con giovani strumentisti cresciuti nelle file dei laboratori e dell’attività dell’Orchestra Scarlatti Junior e Young. \nGiovedì 13 aprile alle ore 18 sono in programma le Sonate per clarinetto e pianoforte di J.Brahms\, C. Saint-Saëns e F. Poulenc\, più i Quattro pezzi di A. Berg. Ad introdurre il concerto inoltre ci sarà il Professore Marco Bizzarini. \nInfo: 081 253 5984 – info@nuovaorchestrascarlatti.it – https://www.nuovaorchestrascarlatti.it/ \n 
URL:https://backup.sistemamedcampania.it/evento/scarlatti-camera-young-dialoghi-musicali-alla-federico-ii/
LOCATION:Chiesa dei SS. Marcellino e Festo\, Largo S. Marcellino\, Napoli\, 80138\, Italia
CATEGORIES:Musica,Nuova Orchestra Scarlatti,Scarlatti Camera Young - Dialoghi musicali alla Federico II
ATTACH;FMTTYPE=image/png:https://backup.sistemamedcampania.it/wp-content/uploads/2023/04/nuova-orchestra-scarlatti-scarlatti-camera-young-dialoghi-musicali-alla-federico-ii.png
END:VEVENT
END:VCALENDAR