BEGIN:VCALENDAR
VERSION:2.0
PRODID:-//Sistema Med Campania - ECPv6.7.0//NONSGML v1.0//EN
CALSCALE:GREGORIAN
METHOD:PUBLISH
X-WR-CALNAME:Sistema Med Campania
X-ORIGINAL-URL:https://backup.sistemamedcampania.it
X-WR-CALDESC:Eventi per Sistema Med Campania
REFRESH-INTERVAL;VALUE=DURATION:PT1H
X-Robots-Tag:noindex
X-PUBLISHED-TTL:PT1H
BEGIN:VTIMEZONE
TZID:Europe/Rome
BEGIN:DAYLIGHT
TZOFFSETFROM:+0100
TZOFFSETTO:+0200
TZNAME:CEST
DTSTART:20230326T010000
END:DAYLIGHT
BEGIN:STANDARD
TZOFFSETFROM:+0200
TZOFFSETTO:+0100
TZNAME:CET
DTSTART:20231029T010000
END:STANDARD
END:VTIMEZONE
BEGIN:VEVENT
DTSTART;TZID=Europe/Rome:20230721T210000
DTEND;TZID=Europe/Rome:20230721T210000
DTSTAMP:20260421T150418
CREATED:20230714T145658Z
LAST-MODIFIED:20230714T150107Z
UID:8428-1689973200-1689973200@backup.sistemamedcampania.it
SUMMARY:Orchestra Filarmonica Campana - Sogni Notturni
DESCRIPTION:Il Sogno e la Notte sono evocati in musica attraverso la forma del Notturno\, che tende a stimolare l’immaginazione e la riflessione. Così presenta un ampio spettro di variabilità\, a seconda dell’animo del compositore\, ma anche dell’ascoltatore. Il concerto Sogni Notturni\, con l’Orchestra Filarmonica Campana e la direzione del maestro Giulio Marazia\, prevede musiche di Debussy\, Weill e Mendelssohn e vuole mettere in relazione i diversi modi di concepire musica ispirata al fascino della notte. Un appuntamento da non perdere\, nell’ambito della rassegna concertistica Vietri in scena 2023 curata dal Comune e sotto la direzione artistica di Luigi Avallone. \nPer info info@filarmonicacampana.it – 349 392 5763 – www.filarmonicacampana.it
URL:https://backup.sistemamedcampania.it/evento/orchestra-filarmonica-campana-sogni-notturni/
LOCATION:Villa Comunale di Vietri sul Mare\, Via Enrico de Marinis\, Vietri sul Mare\, Salerno\, 84019\, Italia
CATEGORIES:Musica,Orchestra Filarmonica Campana
ATTACH;FMTTYPE=image/jpeg:https://backup.sistemamedcampania.it/wp-content/uploads/2023/07/orchestra-filarmonica-campana-vietri-in-scena-2023-sogni-notturni.jpg
END:VEVENT
END:VCALENDAR